BEGIN:VCALENDAR
VERSION:2.0
PRODID:-//ChamberMaster//Event Calendar 2.0//EN
METHOD:PUBLISH
X-PUBLISHED-TTL:P3D
REFRESH-INTERVAL:P3D
CALSCALE:GREGORIAN
BEGIN:VEVENT
DTSTART:20220806T120000Z
DTEND:20220806T150000Z
X-MICROSOFT-CDO-ALLDAYEVENT:FALSE
SUMMARY:Kiwanis 5K
DESCRIPTION:Kiwanis 4 Kids 5K
X-ALT-DESC;FMTTYPE=text/html:Kiwanis 4 Kids 5K
LOCATION:Charlie Daniels Park
UID:e.2544.11700
SEQUENCE:3
DTSTAMP:20260423T211901Z
URL:https://business.mjchamber.org/events/details/kiwanis-5k-11700
END:VEVENT

END:VCALENDAR
