BEGIN:VCALENDAR
VERSION:2.0
PRODID:-//ChamberMaster//Event Calendar 2.0//EN
METHOD:PUBLISH
X-PUBLISHED-TTL:P3D
REFRESH-INTERVAL:P3D
CALSCALE:GREGORIAN
BEGIN:VEVENT
DTSTART:20210807T120000Z
DTEND:20210807T170000Z
X-MICROSOFT-CDO-ALLDAYEVENT:FALSE
SUMMARY:Kiwanis of Mount Juliet 5K
DESCRIPTION:
X-ALT-DESC;FMTTYPE=text/html:
LOCATION:
UID:e.2544.10052
SEQUENCE:3
DTSTAMP:20260424T182012Z
URL:https://business.mjchamber.org/events/details/kiwanis-of-mount-juliet-5k-10052
END:VEVENT

END:VCALENDAR
