BEGIN:VCALENDAR
VERSION:2.0
PRODID:-//ChamberMaster//Event Calendar 2.0//EN
METHOD:PUBLISH
X-PUBLISHED-TTL:P3D
REFRESH-INTERVAL:P3D
CALSCALE:GREGORIAN
BEGIN:VEVENT
DTSTART:20111210T210000Z
DTEND:20111210T210000Z
X-MICROSOFT-CDO-ALLDAYEVENT:FALSE
SUMMARY:Ladies Christmas Extravaganza
DESCRIPTION:Pamper yourself & relieve some holiday stress while learning about products that will help you look better\, feel better\, & get your SEXY back!  We will have samples of products and free demos on our unique toning tables.  Opportunity for local ladies to have fun\, unwind\, & meet new friends.  Great door prizes!!!
X-ALT-DESC;FMTTYPE=text/html:Pamper yourself & relieve some holiday stress while learning about products that will help you look better\, feel better\, & get your SEXY back!  We will have samples of products and free demos on our unique toning tables.  Opportunity for local ladies to have fun\, unwind\, & meet new friends.  Great door prizes!!!
LOCATION:11976 Lebanon Rd\, Mount Juliet\, TN 37122 We are in the Midway center 8/10 mile west of N. Mt Juliet Rd.
UID:e.2544.151
SEQUENCE:3
DTSTAMP:20260420T044824Z
URL:https://business.mjchamber.org/events/details/ladies-christmas-extravaganza-12-10-2011-151
END:VEVENT

END:VCALENDAR
