BEGIN:VCALENDAR
VERSION:2.0
PRODID:-//ChamberMaster//Event Calendar 2.0//EN
METHOD:PUBLISH
X-PUBLISHED-TTL:P3D
REFRESH-INTERVAL:P3D
CALSCALE:GREGORIAN
BEGIN:VEVENT
DTSTART:20260506T000000Z
DTEND:20260506T010000Z
X-MICROSOFT-CDO-ALLDAYEVENT:FALSE
SUMMARY:Lafayette Visits the Hermitage: A Living History Experience with Author Ryan Cole
DESCRIPTION:Step into history at The Hermitage for a one-of-a-kind living history experience. Join author Ryan Cole as he interviews Marquis de Lafayette\, portrayed as acclaimed actor Charles Wissinger\, bringing this legendary Revolutionary War hero vividly to life. Through an engaging conversation\, learn about Lafayette's travels\, his connections to Andrew Jackson\, and his enduring influence on early America. This immersive evening combines storytelling\, performance\, and historical insight\, perfect for history lovers and curious minds alike. Doors open at 6:30 P.M.\, with the program beginning promptly at 7:00 P.M. Don't miss this unique opportunity to witness history come alive!
X-ALT-DESC;FMTTYPE=text/html:Step into history at The Hermitage for a one-of-a-kind living history experience. Join author Ryan Cole as he interviews Marquis de Lafayette\, portrayed as acclaimed actor Charles Wissinger\, bringing this legendary Revolutionary War hero vividly to life. Through an engaging conversation\, learn about Lafayette&rsquo\;s travels\, his connections to Andrew Jackson\, and his enduring influence on early America. This immersive evening combines storytelling\, performance\, and historical insight\, perfect for history lovers and curious minds alike. Doors open at 6:30 P.M.\, with the program beginning promptly at 7:00 P.M. Don&rsquo\;t miss this unique opportunity to witness history come alive!
LOCATION:4580 Rachel's Ln.\, Hermitage TN 37076
UID:e.2544.14475
SEQUENCE:3
DTSTAMP:20260424T190335Z
URL:https://business.mjchamber.org/events/details/lafayette-visits-the-hermitage-a-living-history-experience-with-author-ryan-cole-14475
END:VEVENT

END:VCALENDAR
