BEGIN:VCALENDAR
VERSION:2.0
PRODID:-//ChamberMaster//Event Calendar 2.0//EN
METHOD:PUBLISH
X-PUBLISHED-TTL:P3D
REFRESH-INTERVAL:P3D
CALSCALE:GREGORIAN
BEGIN:VEVENT
DTSTART:20220916T133000Z
DTEND:20220916T143000Z
X-MICROSOFT-CDO-ALLDAYEVENT:FALSE
SUMMARY:Leadership By The Book
DESCRIPTION:This discussion group helps leaders find answers to challenging questions in their personal\, spiritual\, and professional lives. \n\nJoin us live in person!\n\nOur Discussion Leader is Lee Campbell and the topic will be Obadiah\, "Pride Goes Before the Fall."
X-ALT-DESC;FMTTYPE=text/html:<div style="text-align: justify\;">&nbsp\;</div>\n\n<div style="text-align: center\;"><span style="color:#000000\;"><span style="font-size:20px\;"><span style="text-align: justify\; font-family: verdana\;">This d</span></span><span style="text-align: justify\;"><span style="font-size:20px\;"><span style="font-family: verdana\;">iscussion group helps leaders find </span></span><span style="font-size: 14px\;"><span style="font-family: verdana\;"><span style="font-size:20px\;">answers to challenging questions in their personal\, spiritual\, and professional lives.&nbsp\;<br />\nJoin us live in person!<br />\nOur&nbsp\;Discussion Leader is Lee Campbell and the topic&nbsp\;will be&nbsp\;Obadiah\, &quot\;Pride Goes Before the Fall.&quot\;&nbsp\;</span></span></span></span></span></div>\n\n<div style="text-align: justify\;"><br />\n<br />\n<br />\n&nbsp\;</div>\n
LOCATION:Chamber Office 2055 N. Mt. Juliet Road Suite 200
UID:e.2544.10573
SEQUENCE:3
DTSTAMP:20260423T212243Z
URL:https://business.mjchamber.org/events/details/leadership-by-the-book-09-16-2022-10573
END:VEVENT

END:VCALENDAR
