BEGIN:VCALENDAR
VERSION:2.0
PRODID:-//ChamberMaster//Event Calendar 2.0//EN
METHOD:PUBLISH
X-PUBLISHED-TTL:P3D
REFRESH-INTERVAL:P3D
CALSCALE:GREGORIAN
BEGIN:VEVENT
DTSTART:20211217T143000Z
DTEND:20211217T153000Z
X-MICROSOFT-CDO-ALLDAYEVENT:FALSE
SUMMARY:Leadership By The Book
DESCRIPTION:This discussion group helps leaders find answers to challenging questions in their personal\, spiritual\, and professional lives. \n\nJoin us live in person!\n\nOur Discussion Leader is Pastor Chuck Groover from Victory Baptist Church. We will be enjoying breakfast together so come hungry and if you can bring something to share!
X-ALT-DESC;FMTTYPE=text/html:<div style="text-align: justify\;"><br />\n<span style="color:#000000\;"><span style="text-align: justify\; font-family: verdana\; font-size: 14px\;">This d</span><span style="text-align: justify\;"><span style="font-size: 14px\; font-family: verdana\;">iscussion group helps leaders find </span><span style="font-size: 14px\;"><span style="font-family: verdana\;">answers to challenging questions in their personal\, spiritual\, and professional lives.&nbsp\;<br />\nJoin us live in person!<br />\nOur&nbsp\;Discussion Leader is Pastor Chuck Groover from Victory Baptist Church. We will be enjoying breakfast together so come hungry and if you can bring something to share!&nbsp\;</span></span></span></span><br />\n<br />\n<br />\n&nbsp\;</div>\n
LOCATION:
UID:e.2544.10307
SEQUENCE:3
DTSTAMP:20260424T141104Z
URL:https://business.mjchamber.org/events/details/leadership-by-the-book-10307
END:VEVENT

END:VCALENDAR
