BEGIN:VCALENDAR
VERSION:2.0
PRODID:-//ChamberMaster//Event Calendar 2.0//EN
METHOD:PUBLISH
X-PUBLISHED-TTL:P3D
REFRESH-INTERVAL:P3D
CALSCALE:GREGORIAN
BEGIN:VEVENT
DTSTART:20230120T143000Z
DTEND:20230120T153000Z
X-MICROSOFT-CDO-ALLDAYEVENT:FALSE
SUMMARY:Leadership By The Book
DESCRIPTION:This discussion group helps leaders find answers to challenging questions in their personal\, spiritual\, and professional lives. \n\n\n\n\n\n\n\n \n\n\n\nDisclaimer:  As a non-profit organization\, the Mt. Juliet Chamber of Commerce does not promote or endorse political candidates.  Mt. Juliet Chamber of Commerce events are not grounds for campaigning  or distribution of campaign material.  We would like to thank those who hold and/or pursue an elected office for being a Chamber supporter.
X-ALT-DESC;FMTTYPE=text/html:<p dir="ltr" style="line-height:1.38\;text-align: center\;margin-top:0pt\;margin-bottom:0pt\;"><span id="docs-internal-guid-b5bef0f1-7fff-1f69-5376-417d7d1b070e"><span style="font-size: 15pt\; font-family: Verdana\; color: rgb(0\, 0\, 0)\; font-variant-numeric: normal\; font-variant-east-asian: normal\; vertical-align: baseline\; white-space: pre-wrap\;">This discussion group helps leaders find answers to challenging questions in their personal\, spiritual\, and professional lives.&nbsp\;</span></span><br />\n<br />\n<br />\n<br />\n&nbsp\;</p>\n\n<p dir="ltr" style="line-height: 1.38\; margin-top: 0pt\; margin-bottom: 0pt\;"><br />\n<em>Disclaimer:&nbsp\; As a non-profit organization\, the Mt. Juliet Chamber of Commerce does not promote or endorse political candidates.&nbsp\; Mt. Juliet Chamber of Commerce events are not grounds for campaigning&nbsp\; or distribution of campaign material.&nbsp\; We would like to thank those who hold and/or pursue an elected office for being a Chamber supporter.</em></p>\n
LOCATION:
UID:e.2544.12084
SEQUENCE:3
DTSTAMP:20260423T145448Z
URL:https://business.mjchamber.org/events/details/leadership-by-the-book-12084
END:VEVENT

END:VCALENDAR
