BEGIN:VCALENDAR
VERSION:2.0
PRODID:-//ChamberMaster//Event Calendar 2.0//EN
METHOD:PUBLISH
X-PUBLISHED-TTL:P3D
REFRESH-INTERVAL:P3D
CALSCALE:GREGORIAN
BEGIN:VEVENT
DTSTART:20220427T160000Z
DTEND:20220427T180000Z
X-MICROSOFT-CDO-ALLDAYEVENT:FALSE
SUMMARY:Leadership Wilson Alumni Luncheon
DESCRIPTION:Are you ready for the 2022 Alumni Luncheon? Luncheon Features: Presentation of the Class of 2022 Group Projects Reunite with "YOUR Best Class Ever" And More! (Details to come)
X-ALT-DESC;FMTTYPE=text/html:Are you ready for the 2022 Alumni Luncheon? Luncheon Features: Presentation of the Class of 2022 Group Projects Reunite with &quot\;YOUR Best Class Ever&quot\; And More! (Details to come)
LOCATION:Tucker's Gap Event Center 2900 Callis Road Lebanon\, TN 37090
UID:e.2544.10885
SEQUENCE:3
DTSTAMP:20260424T050236Z
URL:https://business.mjchamber.org/events/details/leadership-wilson-alumni-luncheon-10885
END:VEVENT

END:VCALENDAR
