BEGIN:VCALENDAR
VERSION:2.0
PRODID:-//ChamberMaster//Event Calendar 2.0//EN
METHOD:PUBLISH
X-PUBLISHED-TTL:P3D
REFRESH-INTERVAL:P3D
CALSCALE:GREGORIAN
BEGIN:VEVENT
DTSTART:20210918T230000Z
DTEND:20210919T030000Z
X-MICROSOFT-CDO-ALLDAYEVENT:FALSE
SUMMARY:Leadership Wilson Dare to Dine
DESCRIPTION:Join us for Leadership Wilson's Dare to Dine fundraiser. Its a night full of GREAT FOOD & GREAT FRIENDS. Here's how it works\, simply make your reservations for the evening on the Leadership Wilson website. A few days before the event date you'll be given the address of your Host Home along with a list of the other guests who will be dining with you. This is always a spectacular evening with an amazing dinner! It's a great opportunity to meet new people and enjoy a unique dining experience...all while raising money for Leadership Wilson! Dare to Dine began in 2006 and to date we have had almost 200 host homes sharing their cooking and dining expertise! We've had roughly 2500 people "DARE" to "DINE"!!
X-ALT-DESC;FMTTYPE=text/html:Join us for Leadership Wilson&#39\;s Dare to Dine fundraiser. Its a night full of GREAT FOOD &amp\; GREAT FRIENDS. Here&#39\;s how it works\, simply make your reservations for the evening on the Leadership Wilson website. A few days before the event date you&#39\;ll be given the address of your Host Home along with a list of the other guests who will be dining with you. This is always a spectacular evening with an amazing dinner! It&#39\;s a great opportunity to meet new people and enjoy a unique dining experience...all while raising money for Leadership Wilson! Dare to Dine began in 2006 and to date we have had almost 200 host homes sharing their cooking and dining expertise! We&#39\;ve had roughly 2500 people &quot\;DARE&quot\; to &quot\;DINE&quot\;!!
LOCATION:
UID:e.2544.10064
SEQUENCE:3
DTSTAMP:20260424T175617Z
URL:https://business.mjchamber.org/events/details/leadership-wilson-dare-to-dine-10064
END:VEVENT

END:VCALENDAR
