BEGIN:VCALENDAR
VERSION:2.0
PRODID:-//ChamberMaster//Event Calendar 2.0//EN
METHOD:PUBLISH
X-PUBLISHED-TTL:P3D
REFRESH-INTERVAL:P3D
CALSCALE:GREGORIAN
BEGIN:VEVENT
DTSTART:20260813T161500Z
DTEND:20260813T180000Z
X-MICROSOFT-CDO-ALLDAYEVENT:FALSE
SUMMARY:Leading Women Luncheon
DESCRIPTION:Our guest speaker is Dale Smith Thomas! \nDale Smith Thomas is a Keynote Speaker\, Author and Performance Coach.\n\nA top-rated motivational speaker\, Dale's reputation is built on her ability to connect at a personal level with honesty\, humor and warmth.\n\n\nPLEASE NOTE: If WCS is closed due to inclement weather\, programs starting before 11:00 AM will be cancelled. Cancellation for programs starting after 11:00 will be determined not later than the morning of the program. \n\n\n\nDisclaimer:  As a non-profit organization\, the Mt. Juliet Chamber of Commerce does not promote or endorse political candidates.  Mt. Juliet Chamber of Commerce events are not grounds for campaigning or distribution of campaign material.  We would like to thank those who hold and/or pursue an elected office for being a Chamber supporter.
X-ALT-DESC;FMTTYPE=text/html:<span style="font-size:20px\;">Our guest speaker is Dale Smith Thomas!&nbsp\;</span>\n<h1 class="page-title hero-heading" style="box-sizing: border-box\; margin: 0px 0px 0.5em\; font-weight: 900\; font-size: 42px\; font-family: Montserrat\, &quot\;Helvetica Neue&quot\;\, Helvetica\, Arial\, sans-serif\; color: rgb(255\, 255\, 255)\; background-color: rgb(0\, 0\, 0)\;"><span class="title-color" style="box-sizing: border-box\; color: rgb(216\, 171\, 76)\;">Dale Smith Thomas</span>&nbsp\;is a Keynote Speaker\, Author and Performance Coach.</h1>\n\n<h2 class="hero-sub-heading" style="box-sizing: border-box\; margin: 0px 0px 1.5em\; line-height: 1.4\; font-size: 24px\; font-family: Lora\, Georgia\, serif\; color: rgb(255\, 255\, 255)\; background-color: rgb(0\, 0\, 0)\;">A top-rated motivational speaker\, Dale&#39\;s reputation is built on her ability to connect at a personal level with honesty\, humor and warmth.</h2>\n<br />\n<span data-olk-copy-source="MessageBody">PLEASE NOTE: If WCS is closed due to inclement weather\, programs starting before 11:00 AM will be cancelled. Cancellation for programs starting after 11:00 will be determined not later than the morning of the program.&nbsp\;</span><br />\n<br />\n<span style="font-size: 14px\;"><em>Disclaimer:&nbsp\; As a non-profit organization\, the Mt. Juliet Chamber of Commerce does not promote or endorse political candidates.&nbsp\; Mt. Juliet Chamber of Commerce events are not grounds for campaigning or distribution of campaign material.&nbsp\; We would like to thank those who hold and/or pursue an elected office for being a Chamber supporter.</em></span>
LOCATION:Victory Baptist Church 1777 Tate Lane Mt. Juliet\, Tn. 37122
UID:e.2544.13866
SEQUENCE:3
DTSTAMP:20260419T165832Z
URL:https://business.mjchamber.org/events/details/leading-women-luncheon-13866
END:VEVENT

END:VCALENDAR
