BEGIN:VCALENDAR
VERSION:2.0
PRODID:-//ChamberMaster//Event Calendar 2.0//EN
METHOD:PUBLISH
X-PUBLISHED-TTL:P3D
REFRESH-INTERVAL:P3D
CALSCALE:GREGORIAN
BEGIN:VEVENT
DTSTART:20220220T000000Z
DTEND:20220220T050000Z
X-MICROSOFT-CDO-ALLDAYEVENT:FALSE
SUMMARY:Mardi Gras to benefit Sherry's Hope
DESCRIPTION:Mardi Gras to benefit Sherry's Hope is a fun event with dinner\, live music\, dancing\, a live auction\, a silent auction and more! Sherry's Hope is a non-profit organization that works throughout the year to provide hope to families battling cancer in Wilson County and surrounding communities by offering emotional encouragement and financial assistance. In addition\, Sherry's Hope works to spread colon health awareness by distributing free colon cancer screening tests and providing colonoscopy assistance.
X-ALT-DESC;FMTTYPE=text/html:Mardi Gras to benefit Sherry&#39\;s Hope is a fun event with dinner\, live music\, dancing\, a live auction\, a silent auction and more! Sherry&rsquo\;s Hope is a non-profit organization that works throughout the year to provide hope to families battling cancer in Wilson County and surrounding communities by offering emotional encouragement and financial assistance. In addition\, Sherry&rsquo\;s Hope works to spread colon health awareness by distributing free colon cancer screening tests and providing colonoscopy assistance.
LOCATION:Farm Bureau Expo Center\, 945 E Baddour Parkway\, Lebanon
UID:e.2544.10638
SEQUENCE:3
DTSTAMP:20260424T085537Z
URL:https://business.mjchamber.org/events/details/mardi-gras-to-benefit-sherry-s-hope-10638
END:VEVENT

END:VCALENDAR
