BEGIN:VCALENDAR
VERSION:2.0
PRODID:-//ChamberMaster//Event Calendar 2.0//EN
METHOD:PUBLISH
X-PUBLISHED-TTL:P3D
REFRESH-INTERVAL:P3D
CALSCALE:GREGORIAN
BEGIN:VEVENT
DTSTART:20111020T200000Z
DTEND:20111021T000000Z
X-MICROSOFT-CDO-ALLDAYEVENT:FALSE
SUMMARY:Maristone at Providence Grand Opening
DESCRIPTION:Please join us to celebrate our Grand Opening\n\nThursday\, October 20th\n3:00pm-7:00pm
X-ALT-DESC;FMTTYPE=text/html:Please join us to celebrate our Grand Opening\n\nThursday\, October 20th\n3:00pm-7:00pm
LOCATION:140 Providence Trail\, Mt. Juliet\, TN 37122 Travel S. Mt.Juliet Rd. Left on Belinda Pkwy. Right on Providence Trail 140 Providence Trail Mt. Juliet\, Tn 37122 615-942-0095
UID:e.2544.134
SEQUENCE:3
DTSTAMP:20260420T063313Z
URL:https://business.mjchamber.org/events/details/maristone-at-providence-grand-opening-10-20-2011-134
END:VEVENT

END:VCALENDAR
