BEGIN:VCALENDAR
VERSION:2.0
PRODID:-//ChamberMaster//Event Calendar 2.0//EN
METHOD:PUBLISH
X-PUBLISHED-TTL:P3D
REFRESH-INTERVAL:P3D
CALSCALE:GREGORIAN
BEGIN:VEVENT
DTSTART:20210708T181500Z
DTEND:20210708T203000Z
X-MICROSOFT-CDO-ALLDAYEVENT:FALSE
SUMMARY:Meeting Room~Mt. Juliet Fire Dept~ Joey Edwards
DESCRIPTION:4 tables and 4 chairs. Classroom style spread out. 1table set up at front for ther proctor
X-ALT-DESC;FMTTYPE=text/html:4 tables and 4 chairs. Classroom style spread out. 1table set up at front for ther proctor
LOCATION:
UID:e.2544.10095
SEQUENCE:3
DTSTAMP:20260424T165254Z
URL:https://business.mjchamber.org/events/details/meeting-room-mt-juliet-fire-dept-joey-edwards-10095
END:VEVENT

END:VCALENDAR
