BEGIN:VCALENDAR
VERSION:2.0
PRODID:-//ChamberMaster//Event Calendar 2.0//EN
METHOD:PUBLISH
X-PUBLISHED-TTL:P3D
REFRESH-INTERVAL:P3D
CALSCALE:GREGORIAN
BEGIN:VEVENT
DTSTART:20211113T173000Z
DTEND:20211113T193000Z
X-MICROSOFT-CDO-ALLDAYEVENT:FALSE
SUMMARY:MILITARY FAMILY APPRECIATION DAY
DESCRIPTION:Enjoy a free delicious lunch to all military families starting at 11:30 am! Play arcade games in The Landing starting at 12:30. There will be giveaways during the event! Receive a free family photo as part of this event. Visit www.joychurch.net/events for more information
X-ALT-DESC;FMTTYPE=text/html:Enjoy a free delicious lunch to all military families starting at 11:30 am! Play arcade games in The Landing starting at 12:30. There will be giveaways during the event! Receive a free family photo as part of this event. Visit www.joychurch.net/events for more information
LOCATION:Joy Church 10085 Lebanon Road Mount Juliet TN
UID:e.2544.10369
SEQUENCE:3
DTSTAMP:20260424T142126Z
URL:https://business.mjchamber.org/events/details/military-family-appreciation-day-10369
END:VEVENT

END:VCALENDAR
