BEGIN:VCALENDAR
VERSION:2.0
PRODID:-//ChamberMaster//Event Calendar 2.0//EN
METHOD:PUBLISH
X-PUBLISHED-TTL:P3D
REFRESH-INTERVAL:P3D
CALSCALE:GREGORIAN
BEGIN:VEVENT
DTSTART;VALUE=DATE:20220421
DTEND;VALUE=DATE:20220422
TRANSP:TRANSPARENT
X-MICROSOFT-CDO-ALLDAYEVENT:TRUE
SUMMARY:MJ 4 Hope 2nd Annual Spring Golf Scramble
DESCRIPTION:More information coming soon.
X-ALT-DESC;FMTTYPE=text/html:More information coming soon.&nbsp\;
LOCATION:
UID:e.2544.10756
SEQUENCE:3
DTSTAMP:20260424T050319Z
URL:https://business.mjchamber.org/events/details/mj-4-hope-2nd-annual-spring-golf-scramble-10756
END:VEVENT

END:VCALENDAR
