BEGIN:VCALENDAR
VERSION:2.0
PRODID:-//ChamberMaster//Event Calendar 2.0//EN
METHOD:PUBLISH
X-PUBLISHED-TTL:P3D
REFRESH-INTERVAL:P3D
CALSCALE:GREGORIAN
BEGIN:VEVENT
DTSTART;VALUE=DATE:20220806
DTEND;VALUE=DATE:20220807
TRANSP:TRANSPARENT
X-MICROSOFT-CDO-ALLDAYEVENT:TRUE
SUMMARY:MJ 4 Hope August Golf Scramble
DESCRIPTION:AM Scramble: 6:30 am Check-In & Breakfast\, 7:15 am Shotgun Start\, 12:00 pm Awards & Lunch\n\n\n\nPM Scramble: 12:15 pm Check In & Lunch\, 1:15 am Shotgun Start\, 6:00 pm Awards & Dinner\n\n\n\nBreakfast\, Lunch & Dinner Provided by Houston's Meat & Produce
X-ALT-DESC;FMTTYPE=text/html:AM Scramble: 6:30 am Check-In &amp\; Breakfast\, 7:15 am Shotgun Start\, 12:00 pm Awards &amp\; Lunch<br />\n<br />\nPM Scramble: 12:15 pm Check In &amp\; Lunch\, 1:15 am Shotgun Start\, 6:00 pm Awards &amp\; Dinner<br />\n<br />\nBreakfast\, Lunch &amp\; Dinner Provided by Houston&#39\;s Meat &amp\; Produce&nbsp\;<br />\n&nbsp\;
LOCATION:Pine Creek Golf Course 1835 Logue Road\, Mt. Juliet\, TN 37122
UID:e.2544.11543
SEQUENCE:3
DTSTAMP:20260423T212018Z
URL:https://business.mjchamber.org/events/details/mj-4-hope-august-golf-scramble-11543
END:VEVENT

END:VCALENDAR
