BEGIN:VCALENDAR
VERSION:2.0
PRODID:-//ChamberMaster//Event Calendar 2.0//EN
METHOD:PUBLISH
X-PUBLISHED-TTL:P3D
REFRESH-INTERVAL:P3D
CALSCALE:GREGORIAN
BEGIN:VEVENT
DTSTART:20211204T160000Z
DTEND:20211204T220000Z
X-MICROSOFT-CDO-ALLDAYEVENT:FALSE
SUMMARY:MJ Craft & Vendor Fair & Toy Drive
DESCRIPTION:This year MJCC Craft & Vendor Fair is partnering with Give a Little Christmas to bring smiles to Christmas morning! Santa will be taking photos! Come shop for all your holiday wishes!
X-ALT-DESC;FMTTYPE=text/html:This year MJCC Craft &amp\; Vendor Fair is partnering with Give a Little Christmas to bring smiles to Christmas morning! Santa will be taking photos! Come shop for all your holiday wishes!
LOCATION:Mt Juliet Community Center Charlie Daniels Pkwy
UID:e.2544.10600
SEQUENCE:3
DTSTAMP:20260424T123344Z
URL:https://business.mjchamber.org/events/details/mj-craft-vendor-fair-toy-drive-10600
END:VEVENT

END:VCALENDAR
