BEGIN:VCALENDAR
VERSION:2.0
PRODID:-//ChamberMaster//Event Calendar 2.0//EN
METHOD:PUBLISH
X-PUBLISHED-TTL:P3D
REFRESH-INTERVAL:P3D
CALSCALE:GREGORIAN
BEGIN:VEVENT
DTSTART:20220430T120000Z
DTEND:20220430T190000Z
X-MICROSOFT-CDO-ALLDAYEVENT:FALSE
SUMMARY:MJ MOPS Yard Sale Fundraiser
DESCRIPTION:MOPS (Mothers of Preschoolers) to comes together to equip\, support and encourage each other in the journey through motherhood. Friendship Community Church has been a place for MOPS (Mothers of Preschoolers) to come together to equip\, support and encourage each other in the journey through motherhood. We will be hosting our inaugural yard sale fundraiser to support this important organization. In addition to the yard sale\, there will also be a bake sale and a lemonade stand. Come out and find some treasures\, eat yummy baked goods and quench your thirst with our sweet lemonade!
X-ALT-DESC;FMTTYPE=text/html:MOPS (Mothers of Preschoolers) to comes together to equip\, support and encourage each other in the journey through motherhood. Friendship Community Church has been a place for MOPS (Mothers of Preschoolers) to come together to equip\, support and encourage each other in the journey through motherhood. We will be hosting our inaugural yard sale fundraiser to support this important organization. In addition to the yard sale\, there will also be a bake sale and a lemonade stand. Come out and find some treasures\, eat yummy baked goods and quench your thirst with our sweet lemonade!
LOCATION:Friendship Community Church 15285 Lebanon Road Old Hickory\, TN 38138
UID:e.2544.11013
SEQUENCE:3
DTSTAMP:20260424T050319Z
URL:https://business.mjchamber.org/events/details/mj-mops-yard-sale-fundraiser-11013
END:VEVENT

END:VCALENDAR
