BEGIN:VCALENDAR
VERSION:2.0
PRODID:-//ChamberMaster//Event Calendar 2.0//EN
METHOD:PUBLISH
X-PUBLISHED-TTL:P3D
REFRESH-INTERVAL:P3D
CALSCALE:GREGORIAN
BEGIN:VEVENT
DTSTART:20220616T220000Z
DTEND:20220617T000000Z
X-MICROSOFT-CDO-ALLDAYEVENT:FALSE
SUMMARY:MJ Work From Home Meetup
DESCRIPTION:Meet your work from home neighbors and eat some amazing food from PDK Southern Kitchen!
X-ALT-DESC;FMTTYPE=text/html:Meet your work from home neighbors and eat some amazing food from PDK Southern Kitchen!
LOCATION:Success Lab MJ 1982 Providence Pkwy Suite 251\, Mt. Juliet\, TN 37122
UID:e.2544.11214
SEQUENCE:3
DTSTAMP:20260424T025322Z
URL:https://business.mjchamber.org/events/details/mj-work-from-home-meetup-11214
END:VEVENT

END:VCALENDAR
