BEGIN:VCALENDAR
VERSION:2.0
PRODID:-//ChamberMaster//Event Calendar 2.0//EN
METHOD:PUBLISH
X-PUBLISHED-TTL:P3D
REFRESH-INTERVAL:P3D
CALSCALE:GREGORIAN
BEGIN:VEVENT
DTSTART:20110723T180000Z
DTEND:20110723T200000Z
X-MICROSOFT-CDO-ALLDAYEVENT:FALSE
SUMMARY:Moss' Canning Seminar
DESCRIPTION:Learn the basics of canning jam\, jellies\, vegetables and other foods. Marjorie Hoffman\, Master Gardener\, will teach a seminar on the basics. $10.00 per person. Please call and sign up early as space is limited.
X-ALT-DESC;FMTTYPE=text/html:Learn the basics of canning jam\, jellies\, vegetables and other foods. Marjorie Hoffman\, Master Gardener\, will teach a seminar on the basics. $10.00 per person. Please call and sign up early as space is limited. 
LOCATION:12110 Lebanon Road\, Mt. Juliet\, TN
UID:e.2544.73
SEQUENCE:3
DTSTAMP:20260420T113354Z
URL:https://business.mjchamber.org/events/details/moss-canning-seminar-07-23-2011-73
END:VEVENT

END:VCALENDAR
