BEGIN:VCALENDAR
VERSION:2.0
PRODID:-//ChamberMaster//Event Calendar 2.0//EN
METHOD:PUBLISH
X-PUBLISHED-TTL:P3D
REFRESH-INTERVAL:P3D
CALSCALE:GREGORIAN
BEGIN:VEVENT
DTSTART:20120414T130000Z
DTEND:20120414T133000Z
X-MICROSOFT-CDO-ALLDAYEVENT:FALSE
SUMMARY:Mount Juliet Soccer Association
DESCRIPTION:Ribbon Cutting ceremony \,open fields\, possible silent auction
X-ALT-DESC;FMTTYPE=text/html:Ribbon Cutting ceremony \,open fields\, possible silent auction 
LOCATION:Mount Juliet Soccer Assocation \, Mount Juliet\, TN 37122 I-40 to Beckwith Rd S. to 4-way stop. Take first left on S. Posey Hill Rd which turns into Sullivan Bend Road
UID:e.2544.240
SEQUENCE:3
DTSTAMP:20260419T200018Z
URL:https://business.mjchamber.org/events/details/mount-juliet-soccer-association-04-14-2012-240
END:VEVENT

END:VCALENDAR
