BEGIN:VCALENDAR
VERSION:2.0
PRODID:-//ChamberMaster//Event Calendar 2.0//EN
METHOD:PUBLISH
X-PUBLISHED-TTL:P3D
REFRESH-INTERVAL:P3D
CALSCALE:GREGORIAN
BEGIN:VEVENT
DTSTART:20120303T200000Z
DTEND:20120303T220000Z
X-MICROSOFT-CDO-ALLDAYEVENT:FALSE
SUMMARY:Move Across Wilson Kick-Off
DESCRIPTION:This 10-week program encourages individuals and families to participate in any kind of physical activity for a minimum for 30 minutes a day\, five days a week\, for their health. Sponsored by Leadership Wilson and the Wilson County Health Council. The kick-off includes fun and healthy activities such as fun runs\, Zumba classes\, mini health fair\, health screenings\, bounce house\, master gardner demonstration\, prizes\, and more!
X-ALT-DESC;FMTTYPE=text/html:This 10-week program encourages individuals and families to participate in any kind of physical activity for a minimum for 30 minutes a day\, five days a week\, for their health. Sponsored by Leadership Wilson and the Wilson County Health Council. The kick-off includes fun and healthy activities such as fun runs\, Zumba classes\, mini health fair\, health screenings\, bounce house\, master gardner demonstration\, prizes\, and more!
LOCATION:@ Charlie Daniels Park
UID:e.2544.225
SEQUENCE:3
DTSTAMP:20260419T213532Z
URL:https://business.mjchamber.org/events/details/move-across-wilson-kick-off-03-03-2012-225
END:VEVENT

END:VCALENDAR
