BEGIN:VCALENDAR
VERSION:2.0
PRODID:-//ChamberMaster//Event Calendar 2.0//EN
METHOD:PUBLISH
X-PUBLISHED-TTL:P3D
REFRESH-INTERVAL:P3D
CALSCALE:GREGORIAN
BEGIN:VEVENT
DTSTART:20120622T170000Z
DTEND:20120622T230000Z
X-MICROSOFT-CDO-ALLDAYEVENT:FALSE
SUMMARY:Mt. Juliet Donor Day Blood Drive - Free t-shirts to presenting Blood Donors
DESCRIPTION:2nd Annual Summer Donor Day Blood Drive\n\nFree t-shirt to presenting blood donors while supplies last\nFree Wilson Bank & Trust Chip Clip\nAll presenting donors will be eligible to enter to win a Gibson Guitar\nAll presenting donors between the ages of 16 and 21 will be eligible to enter to win a $5000.00 scholarship for higher education.
X-ALT-DESC;FMTTYPE=text/html:2nd Annual Summer Donor Day Blood Drive\n\nFree t-shirt to presenting blood donors while supplies last\nFree Wilson Bank & Trust Chip Clip\nAll presenting donors will be eligible to enter to win a Gibson Guitar\nAll presenting donors between the ages of 16 and 21 will be eligible to enter to win a $5000.00 scholarship for higher education.
LOCATION:2425 N Mt. Juliet Road\, Mount Juliet\, TN 37122 Charlie Danie's Park Gymnasium
UID:e.2544.303
SEQUENCE:3
DTSTAMP:20260419T170229Z
URL:https://business.mjchamber.org/events/details/mt-juliet-donor-day-blood-drive-free-t-shirts-to-presenting-blood-donors-06-22-2012-303
END:VEVENT

END:VCALENDAR
