BEGIN:VCALENDAR
VERSION:2.0
PRODID:-//ChamberMaster//Event Calendar 2.0//EN
METHOD:PUBLISH
X-PUBLISHED-TTL:P3D
REFRESH-INTERVAL:P3D
CALSCALE:GREGORIAN
BEGIN:VEVENT
DTSTART:20201026T160000Z
DTEND:20201026T163000Z
X-MICROSOFT-CDO-ALLDAYEVENT:FALSE
SUMMARY:Mt. Juliet Monday Community Development Update
DESCRIPTION:Join us for our weekly update from an Mt. Juliet official! This week we will be joining our Community Development Meeting with Mt. Juliet Monday. We will be hearing from__________\n\n\n\nBe sure to register as the Zoom link to the meeting will be emailed to registered attendees.
X-ALT-DESC;FMTTYPE=text/html:<br />\n<span style="color:#000000\;"><span style="font-family:verdana\;"><span style="font-size:14px\;">Join us for our weekly update from an Mt. Juliet official! This week we will be joining our Community Development Meeting with Mt. Juliet Monday. We will be hearing from__________</span></span></span><br />\n<br />\n<span style="color: rgb(0\, 0\, 0)\; font-family: verdana\; font-size: 14px\;">Be sure to register as the Zoom link to the meeting will be emailed to registered attendees.&nbsp\;</span>
LOCATION:Via Zoom
UID:e.2544.8872
SEQUENCE:3
DTSTAMP:20260424T023559Z
URL:https://business.mjchamber.org/events/details/mt-juliet-monday-community-development-update-8872
END:VEVENT

END:VCALENDAR
