BEGIN:VCALENDAR
VERSION:2.0
PRODID:-//ChamberMaster//Event Calendar 2.0//EN
METHOD:PUBLISH
X-PUBLISHED-TTL:P3D
REFRESH-INTERVAL:P3D
CALSCALE:GREGORIAN
BEGIN:VEVENT
DTSTART:20210816T160000Z
DTEND:20210816T163000Z
X-MICROSOFT-CDO-ALLDAYEVENT:FALSE
SUMMARY:Mt. Juliet Monday with Kenny Martin
DESCRIPTION:We are providing an opportunity for local businesses to ask questions and get an update on things happening in Mt. Juliet straight from the source. Please notice the time change for August. We will be meting via Zoom at 11 this month only. \n\n\n\nBe sure to register to ensure you receive a Zoom meeting link.
X-ALT-DESC;FMTTYPE=text/html:<br />\n<span style="font-size:14px\;"><span style="font-family:verdana\;"><span style="color:#000000\;"><span style="background-color: rgb(255\, 255\, 255)\;">We are providing an opportunity for local businesses to ask questions and get an update on things happening in Mt. Juliet straight from the source. <strong>Please notice the time change for August. We will be meting via Zoom at 11 this month only.&nbsp\;</strong></span></span></span></span><br />\n<br />\n<span style="color: rgb(0\, 0\, 0)\; font-family: verdana\; font-size: 14px\;">Be sure to register to ensure you receive a Zoom meeting link.&nbsp\;&nbsp\;</span><span style="font-size:14px\;"><span style="font-family:verdana\;"><span style="color:#000000\;"><span style="background-color: rgb(255\, 255\, 255)\;">&nbsp\;</span></span></span></span>
LOCATION:On Zoom!
UID:e.2544.10143
SEQUENCE:3
DTSTAMP:20260424T200456Z
URL:https://business.mjchamber.org/events/details/mt-juliet-monday-with-kenny-martin-10143
END:VEVENT

END:VCALENDAR
