BEGIN:VCALENDAR
VERSION:2.0
PRODID:-//ChamberMaster//Event Calendar 2.0//EN
METHOD:PUBLISH
X-PUBLISHED-TTL:P3D
REFRESH-INTERVAL:P3D
CALSCALE:GREGORIAN
BEGIN:VEVENT
DTSTART:20220630T210000Z
DTEND:20220630T230000Z
X-MICROSOFT-CDO-ALLDAYEVENT:FALSE
SUMMARY:Mt. Juliet Senior Activity Center Open House
DESCRIPTION:We will be serving light hors d 'oeuvres between 4-6\, the open house will have tables set-up by group leaders to show case all the activities that we offer at the center. This will be a great time to join the center or renew memberships for the 2022-2023 year.
X-ALT-DESC;FMTTYPE=text/html:We will be serving light hors d &#39\;oeuvres between 4-6\, the open house will have tables set-up by group leaders to show case all the activities that we offer at the center. This will be a great time to join the center or renew memberships for the 2022-2023 year.&nbsp\;
LOCATION:Mt. Juliet Senior Activity Center 2034 N. Mt. Juliet Rd. Mt. Juliet\, TN 37122
UID:e.2544.11545
SEQUENCE:3
DTSTAMP:20260424T012152Z
URL:https://business.mjchamber.org/events/details/mt-juliet-senior-activity-center-open-house-06-30-2022-11545
END:VEVENT

END:VCALENDAR
