BEGIN:VCALENDAR
VERSION:2.0
PRODID:-//ChamberMaster//Event Calendar 2.0//EN
METHOD:PUBLISH
X-PUBLISHED-TTL:P3D
REFRESH-INTERVAL:P3D
CALSCALE:GREGORIAN
BEGIN:VEVENT
DTSTART:20220409T200000Z
DTEND:20220409T230000Z
X-MICROSOFT-CDO-ALLDAYEVENT:FALSE
SUMMARY:Mt. Juliet Senior Activity Center Reverse Raffle
DESCRIPTION:The Mt. Juliet Senior Activity Center will hold its annual Reverse Raffle selling tickets at $50 each. 300 tickets will be sold and the winning prize will be $5\,000
X-ALT-DESC;FMTTYPE=text/html:The Mt. Juliet Senior Activity Center will hold its annual Reverse Raffle selling tickets at $50 each. 300 tickets will be sold and the winning prize will be $5\,000
LOCATION:Mt. Juliet Senior Activity Center 2034 N. Mt. Juliet Road Mt. Juliet\, TN 37122
UID:e.2544.10825
SEQUENCE:3
DTSTAMP:20260424T050405Z
URL:https://business.mjchamber.org/events/details/mt-juliet-senior-activity-center-reverse-raffle-10825
END:VEVENT

END:VCALENDAR
