BEGIN:VCALENDAR
VERSION:2.0
PRODID:-//ChamberMaster//Event Calendar 2.0//EN
METHOD:PUBLISH
X-PUBLISHED-TTL:P3D
REFRESH-INTERVAL:P3D
CALSCALE:GREGORIAN
BEGIN:VEVENT
DTSTART:20120423T234500Z
DTEND:20120424T010000Z
X-MICROSOFT-CDO-ALLDAYEVENT:FALSE
SUMMARY:Mt Juliet Toastmasters Open House
DESCRIPTION:Mt Juliet Toastmasters is having an open house to demo a Toastmaster meeting. Our goal is to raise awareness about Toastmasters in the community. Light refreshments will be served.\nThe event is free. Come an enjoy the camaraderie.
X-ALT-DESC;FMTTYPE=text/html:Mt Juliet Toastmasters is having an open house to demo a Toastmaster meeting. Our goal is to raise awareness about Toastmasters in the community. Light refreshments will be served.\nThe event is free. Come an enjoy the camaraderie.
LOCATION:14544 Lebanon Road\, Old Hickory \, Tn 37138 14544 Lebanon Road\, St Stephens\, east most classroom in front of the education building. There will be a sign in front of the classroom.
UID:e.2544.264
SEQUENCE:3
DTSTAMP:20260419T195925Z
URL:https://business.mjchamber.org/events/details/mt-juliet-toastmasters-open-house-04-23-2012-264
END:VEVENT

END:VCALENDAR
