BEGIN:VCALENDAR
VERSION:2.0
PRODID:-//ChamberMaster//Event Calendar 2.0//EN
METHOD:PUBLISH
X-PUBLISHED-TTL:P3D
REFRESH-INTERVAL:P3D
CALSCALE:GREGORIAN
BEGIN:VEVENT
DTSTART:20120405T230000Z
DTEND:20120406T010000Z
X-MICROSOFT-CDO-ALLDAYEVENT:FALSE
SUMMARY:Mt. Juliet YMCA Friends Dinner
DESCRIPTION:This is a dinner to celebrate our community with Mt. Juliet YMCA Friends!
X-ALT-DESC;FMTTYPE=text/html:This is a dinner to celebrate our community with Mt. Juliet YMCA Friends!
LOCATION:11555 Lebanon Road\, Mt. Juliet\, Tn 37122 "The House" at 11555 Lebanon Road\, Mt. Juliet\, TN 37122. Going toward Hermitage\, it is the first right past Burger King in Mt. Juliet!
UID:e.2544.224
SEQUENCE:3
DTSTAMP:20260419T195906Z
URL:https://business.mjchamber.org/events/details/mt-juliet-ymca-friends-dinner-04-05-2012-224
END:VEVENT

END:VCALENDAR
