BEGIN:VCALENDAR
VERSION:2.0
PRODID:-//ChamberMaster//Event Calendar 2.0//EN
METHOD:PUBLISH
X-PUBLISHED-TTL:P3D
REFRESH-INTERVAL:P3D
CALSCALE:GREGORIAN
BEGIN:VEVENT
DTSTART:20210911T200000Z
DTEND:20210912T000000Z
X-MICROSOFT-CDO-ALLDAYEVENT:FALSE
SUMMARY:Mt. Olivet Baptist Church Fish Fest
DESCRIPTION:This is an annual FREE family event with music\, food\, activities\, and inflatables. our special musical guest this year is the Kings Way Quartet. A southern gospel group that is sure to bless us all. Everyone is invited to join us for our FREE annual fish fest. Mt Olivet Baptist Church\, 7463 Hickory Ridge Road\, Mt Juliet.
X-ALT-DESC;FMTTYPE=text/html:This is an annual FREE family event with music\, food\, activities\, and inflatables. our special musical guest this year is the Kings Way Quartet. A southern gospel group that is sure to bless us all. Everyone is invited to join us for our FREE annual fish fest. Mt Olivet Baptist Church\, 7463 Hickory Ridge Road\, Mt Juliet.
LOCATION:Mt. Olivet Baptist Church 7463 Hickory Ridge Road Mt. Juliet\, Tn. 37122
UID:e.2544.10236
SEQUENCE:3
DTSTAMP:20260424T175829Z
URL:https://business.mjchamber.org/events/details/mt-olivet-baptist-church-fish-fest-10236
END:VEVENT

END:VCALENDAR
