BEGIN:VCALENDAR
VERSION:2.0
PRODID:-//ChamberMaster//Event Calendar 2.0//EN
METHOD:PUBLISH
X-PUBLISHED-TTL:P3D
REFRESH-INTERVAL:P3D
CALSCALE:GREGORIAN
BEGIN:VEVENT
DTSTART:20220131T000000Z
DTEND:20220131T013000Z
X-MICROSOFT-CDO-ALLDAYEVENT:FALSE
SUMMARY:Nashville Praise Symphony Benefit Concert
DESCRIPTION:The Nashville Praise Symphony concert is a night of praise and worship to benefit the ministry of the Pregnancy Care Center. The concert is free to attend\, family friendly\, and open to the public. A love offering will be collected following a brief ministry presentation during intermission.
X-ALT-DESC;FMTTYPE=text/html:The Nashville Praise Symphony concert is a night of praise and worship to benefit the ministry of the Pregnancy Care Center. The concert is free to attend\, family friendly\, and open to the public. A love offering will be collected following a brief ministry presentation during intermission.
LOCATION:First Baptist Church\, Mt. Juliet
UID:e.2544.10853
SEQUENCE:3
DTSTAMP:20260424T105909Z
URL:https://business.mjchamber.org/events/details/nashville-praise-symphony-benefit-concert-10853
END:VEVENT

END:VCALENDAR
