BEGIN:VCALENDAR
VERSION:2.0
PRODID:-//ChamberMaster//Event Calendar 2.0//EN
METHOD:PUBLISH
X-PUBLISHED-TTL:P3D
REFRESH-INTERVAL:P3D
CALSCALE:GREGORIAN
BEGIN:VEVENT
DTSTART;VALUE=DATE:20240518
DTEND;VALUE=DATE:20240519
TRANSP:TRANSPARENT
X-MICROSOFT-CDO-ALLDAYEVENT:TRUE
SUMMARY:Native Plant Sale
DESCRIPTION:Wilson County Master Gardeners offer more than 4\,000 native plants and 130 species at affordable prices. Our goal is to encourage the use of Tennessee natives in Tennessee landscapes. Knowledgeable gardeners available to provide information and answer questions.
X-ALT-DESC;FMTTYPE=text/html:Wilson County Master Gardeners offer more than 4\,000 native plants and 130 species at affordable prices. Our goal is to encourage the use of Tennessee natives in Tennessee landscapes. Knowledgeable gardeners available to provide information and answer questions.
LOCATION:Assembly Hall\, Cedars of Lebanon State Garden
UID:e.2544.13060
SEQUENCE:3
DTSTAMP:20260419T151905Z
URL:https://business.mjchamber.org/events/details/native-plant-sale-05-18-2024-13060
END:VEVENT

END:VCALENDAR
