BEGIN:VCALENDAR
VERSION:2.0
PRODID:-//ChamberMaster//Event Calendar 2.0//EN
METHOD:PUBLISH
X-PUBLISHED-TTL:P3D
REFRESH-INTERVAL:P3D
CALSCALE:GREGORIAN
BEGIN:VEVENT
DTSTART:20220111T150000Z
DTEND:20220111T193000Z
X-MICROSOFT-CDO-ALLDAYEVENT:FALSE
SUMMARY:New Year with a New Career Job Fair
DESCRIPTION:Now Hiring for: Yates (Nissan)\, Carvana\, Fed-Ex\, A+H (Tachi-S)\, TSA\, Wonder Porcelain\, 1Direction Staffing\, Touchpoint Healthcare\, CSC\, Hire Dynamics Staffing and More!!! Logistics\, Retail\, Customer Service\, Production and more
X-ALT-DESC;FMTTYPE=text/html:Now Hiring for: Yates (Nissan)\, Carvana\, Fed-Ex\, A+H (Tachi-S)\, TSA\, Wonder Porcelain\, 1Direction Staffing\, Touchpoint Healthcare\, CSC\, Hire Dynamics Staffing and More!!! Logistics\, Retail\, Customer Service\, Production and more&hellip\;
LOCATION:Capitol Theater 110 W Main St\, Lebanon\, TN 37087
UID:e.2544.10766
SEQUENCE:3
DTSTAMP:20260424T110219Z
URL:https://business.mjchamber.org/events/details/new-year-with-a-new-career-job-fair-10766
END:VEVENT

END:VCALENDAR
