BEGIN:VCALENDAR
VERSION:2.0
PRODID:-//ChamberMaster//Event Calendar 2.0//EN
METHOD:PUBLISH
X-PUBLISHED-TTL:P3D
REFRESH-INTERVAL:P3D
CALSCALE:GREGORIAN
BEGIN:VEVENT
DTSTART:20220407T223000Z
DTEND:20220408T020000Z
X-MICROSOFT-CDO-ALLDAYEVENT:FALSE
SUMMARY:Night Out for NLOL
DESCRIPTION:Silent Auction Live Auction (benefits the Angel Fund) Give Aways All proceeds benefit the animals of New Leash on Life
X-ALT-DESC;FMTTYPE=text/html:Silent Auction Live Auction (benefits the Angel Fund) Give Aways All proceeds benefit the animals of New Leash on Life
LOCATION:Capitol Theater Main St Lebanon\, TN 37087
UID:e.2544.10767
SEQUENCE:3
DTSTAMP:20260424T050133Z
URL:https://business.mjchamber.org/events/details/night-out-for-nlol-10767
END:VEVENT

END:VCALENDAR
