BEGIN:VCALENDAR
VERSION:2.0
PRODID:-//ChamberMaster//Event Calendar 2.0//EN
METHOD:PUBLISH
X-PUBLISHED-TTL:P3D
REFRESH-INTERVAL:P3D
CALSCALE:GREGORIAN
BEGIN:VEVENT
DTSTART:20260702T133000Z
DTEND:20260702T143000Z
X-MICROSOFT-CDO-ALLDAYEVENT:FALSE
SUMMARY:Non-Profit Leadership Council
DESCRIPTION:Technology Tools for Nonprofits\n\n \n\nwith guest Speaker CJ Hutsenpiller | Hutsenpiller Insurance\n\n\n\n\n\n\n\nPLEASE NOTE: If WCS are closed due to inclement weather\, programs starting prior to 11:00 AM will be cancelled. Cancellation for programs starting after 11:00 will be determined not later than the morning of the program. \n\n\n\nDisclaimer:  As a non-profit organization\, the Mt. Juliet Chamber of Commerce does not promote or endorse political candidates.  Mt. Juliet Chamber of Commerce events are not grounds for campaigning or distribution of campaign material.  We would like to thank those who hold and/or pursue an elected office for being a Chamber supporter.
X-ALT-DESC;FMTTYPE=text/html:<h2 dir="ltr" style="line-height: 1.38\; text-align: center\; margin-top: 0pt\; margin-bottom: 0pt\;"><span style="font-size:20px\;"><strong><span style="font-family:arial\;">Technology Tools for Nonprofits</span></strong></span></h2>\n\n<p dir="ltr" style="line-height:1.38\;text-align: center\;margin-top:0pt\;margin-bottom:0pt\;">&nbsp\;</p>\n\n<h3 dir="ltr" style="line-height: 1.38\; text-align: center\; margin-top: 0pt\; margin-bottom: 0pt\;"><span style="font-family:arial\;">with guest Speaker CJ Hutsenpiller | Hutsenpiller Insurance</span></h3>\n\n<p dir="ltr" style="line-height:1.38\;text-align: center\;margin-top:0pt\;margin-bottom:0pt\;"><br />\n<br />\n<br />\n<span style="font-family:arial\;"><span data-olk-copy-source="MessageBody">PLEASE NOTE: If WCS are closed due to inclement weather\, programs starting prior to 11:00 AM will be cancelled. Cancellation for programs starting after 11:00 will be determined not later than the morning of the program.&nbsp\;</span><br />\n<br />\n<em style="font-size: 14px\;">Disclaimer:&nbsp\; As a non-profit organization\, the Mt. Juliet Chamber of Commerce does not promote or endorse political candidates.&nbsp\; Mt. Juliet Chamber of Commerce events are not grounds for campaigning or distribution of campaign material.&nbsp\; We would like to thank those who hold and/or pursue an elected office for being a Chamber supporter.</em></span></p>\n
LOCATION:Chamber Office 2055 N. Mt. Juliet Road Suite 200
UID:e.2544.13873
SEQUENCE:3
DTSTAMP:20260419T131815Z
URL:https://business.mjchamber.org/events/details/non-profit-leadership-council-13873
END:VEVENT

END:VCALENDAR
