BEGIN:VCALENDAR
VERSION:2.0
PRODID:-//ChamberMaster//Event Calendar 2.0//EN
METHOD:PUBLISH
X-PUBLISHED-TTL:P3D
REFRESH-INTERVAL:P3D
CALSCALE:GREGORIAN
BEGIN:VEVENT
DTSTART:20211214T003000Z
DTEND:20211214T030000Z
X-MICROSOFT-CDO-ALLDAYEVENT:FALSE
SUMMARY:Non-Profit Leadership Council Dinner
DESCRIPTION:Make plans to join us for a dinner at Lillian Beretta's home. for a night of good food\, fellowship\, and planning for 2022.
X-ALT-DESC;FMTTYPE=text/html:<span style="color:#000000\;"><span style="font-size:14px\;"><span style="font-family:verdana\;">Make plans to join us for a dinner at Lillian Beretta&#39\;s home. for a night of good food\, fellowship\, and planning for 2022.&nbsp\;</span></span></span>
LOCATION:855 Pleasant Grove Road Mt. Juliet The house on the left passed Walmart with the vineyard in the front yard.
UID:e.2544.10601
SEQUENCE:3
DTSTAMP:20260424T160146Z
URL:https://business.mjchamber.org/events/details/non-profit-leadership-council-dinner-10601
END:VEVENT

END:VCALENDAR
