BEGIN:VCALENDAR
VERSION:2.0
PRODID:-//ChamberMaster//Event Calendar 2.0//EN
METHOD:PUBLISH
X-PUBLISHED-TTL:P3D
REFRESH-INTERVAL:P3D
CALSCALE:GREGORIAN
BEGIN:VEVENT
DTSTART:20220126T150000Z
DTEND:20220127T180000Z
X-MICROSOFT-CDO-ALLDAYEVENT:FALSE
SUMMARY:Office Productivity Class in Mt. Juliet
DESCRIPTION:Goodwill Career Solutions will host an Office Productivity Class from 9 a.m.- 12 p.m. on Wednesday and Thursday\, Jan. 26-27\, at 1985 Providence Parkway Mt. Juliet. Participants must pre-register by visiting www.giveit2goodwill.org/digital-literacy or calling (615) 288-2389.   Introduction to Microsoft Word\, Excel & PowerPoint   Gmail\, Google Calendar\, Google Docs\, Sheets\, and Drive
X-ALT-DESC;FMTTYPE=text/html:Goodwill Career Solutions will host an Office Productivity Class from 9 a.m.- 12 p.m. on Wednesday and Thursday\, Jan. 26-27\, at 1985 Providence Parkway Mt. Juliet. Participants must pre-register by visiting www.giveit2goodwill.org/digital-literacy or calling (615) 288-2389. &bull\; Introduction to Microsoft Word\, Excel &amp\; PowerPoint &bull\; Gmail\, Google Calendar\, Google Docs\, Sheets\, and Drive
LOCATION:1985 Providence West Parkway Mt. Juliet\, TN 37122
UID:e.2544.10765
SEQUENCE:3
DTSTAMP:20260424T105704Z
URL:https://business.mjchamber.org/events/details/office-productivity-class-in-mt-juliet-10765
END:VEVENT

END:VCALENDAR
