BEGIN:VCALENDAR
VERSION:2.0
PRODID:-//ChamberMaster//Event Calendar 2.0//EN
METHOD:PUBLISH
X-PUBLISHED-TTL:P3D
REFRESH-INTERVAL:P3D
CALSCALE:GREGORIAN
BEGIN:VEVENT
DTSTART:20220330T140000Z
DTEND:20220331T170000Z
X-MICROSOFT-CDO-ALLDAYEVENT:FALSE
SUMMARY:Office Productivity Skills (2-Day) Class in Mt. Juliet
DESCRIPTION:OFFICE PRODUCTIVITY SKILLS (2-DAY) CLASS IN MT. JULIET Mt. Juliet Goodwill Career Solutions 1985 Providence West Parkway\, Mt. Juliet\, TN Goodwill hosts an Office Productivity Class from 9 a.m.- noon. at Career Solutions Center at 1985 Providence Parkway in Mt. Juliet. Participants must pre-register by visiting www.giveit2goodwill.org/office-skills or calling (615) 288-2389.
X-ALT-DESC;FMTTYPE=text/html:OFFICE PRODUCTIVITY SKILLS (2-DAY) CLASS IN MT. JULIET Mt. Juliet Goodwill Career Solutions 1985 Providence West Parkway\, Mt. Juliet\, TN Goodwill hosts an Office Productivity Class from 9 a.m.- noon. at Career Solutions Center at 1985 Providence Parkway in Mt. Juliet. Participants must pre-register by visiting www.giveit2goodwill.org/office-skills or calling (615) 288-2389.
LOCATION:1985 Providence Parkway in Mt. Juliet
UID:e.2544.10967
SEQUENCE:3
DTSTAMP:20260424T071424Z
URL:https://business.mjchamber.org/events/details/office-productivity-skills-2-day-class-in-mt-juliet-10967
END:VEVENT

END:VCALENDAR
