BEGIN:VCALENDAR
VERSION:2.0
PRODID:-//ChamberMaster//Event Calendar 2.0//EN
METHOD:PUBLISH
X-PUBLISHED-TTL:P3D
REFRESH-INTERVAL:P3D
CALSCALE:GREGORIAN
BEGIN:VEVENT
DTSTART:20211027T140000Z
DTEND:20211028T180000Z
X-MICROSOFT-CDO-ALLDAYEVENT:FALSE
SUMMARY:Office Productivity Skills Training in Mt. Juliet
DESCRIPTION:Goodwill Career Solutions will host an Office Productivity Class from 9 a.m.-1 p.m. on Wednesday and Thursday\, Oct. 27-28\, at 1985 Providence Parkway. Participants must pre-register by visiting www.giveit2goodwill.org/digital-literacy or calling (615) 288-2389. What you will learn: Introduction to Microsoft Word\, Excel & PowerPoint\, Gmail\, Google Calendar\, Google Docs\, Sheets\, and Drive
X-ALT-DESC;FMTTYPE=text/html:Goodwill Career Solutions will host an Office Productivity Class from 9 a.m.-1 p.m. on Wednesday and Thursday\, Oct. 27-28\, at 1985 Providence Parkway. Participants must pre-register by visiting www.giveit2goodwill.org/digital-literacy or calling (615) 288-2389. What you will learn: Introduction to Microsoft Word\, Excel &amp\; PowerPoint\, Gmail\, Google Calendar\, Google Docs\, Sheets\, and Drive
LOCATION:1985 Providence Parkway\, Mt. Juliet\, TN 37122
UID:e.2544.10300
SEQUENCE:3
DTSTAMP:20260424T161751Z
URL:https://business.mjchamber.org/events/details/office-productivity-skills-training-in-mt-juliet-10300
END:VEVENT

END:VCALENDAR
