BEGIN:VCALENDAR
VERSION:2.0
PRODID:-//ChamberMaster//Event Calendar 2.0//EN
METHOD:PUBLISH
X-PUBLISHED-TTL:P3D
REFRESH-INTERVAL:P3D
CALSCALE:GREGORIAN
BEGIN:VEVENT
DTSTART:20211215T150000Z
DTEND:20211216T180000Z
X-MICROSOFT-CDO-ALLDAYEVENT:FALSE
SUMMARY:Office Productivity Skills (Two-Day) Class in Mt. Juliet
DESCRIPTION:Goodwill Career Solutions will host an Office Productivity Class from 9 a.m.-noon on Wednesday and Thursday\, Dec. 15-16\, at 1985 Providence Parkway Mt. Juliet. Participants must pre-register by visiting www.giveit2goodwill.org/office-skills or calling (615) 288-2389.
X-ALT-DESC;FMTTYPE=text/html:Goodwill Career Solutions will host an Office Productivity Class from 9 a.m.-noon on Wednesday and Thursday\, Dec. 15-16\, at 1985 Providence Parkway Mt. Juliet. Participants must pre-register by visiting www.giveit2goodwill.org/office-skills or calling (615) 288-2389.
LOCATION:1985 Providence West Parkway Mt. Juliet\, TN 37122
UID:e.2544.10635
SEQUENCE:3
DTSTAMP:20260424T123426Z
URL:https://business.mjchamber.org/events/details/office-productivity-skills-two-day-class-in-mt-juliet-10635
END:VEVENT

END:VCALENDAR
