BEGIN:VCALENDAR
VERSION:2.0
PRODID:-//ChamberMaster//Event Calendar 2.0//EN
METHOD:PUBLISH
X-PUBLISHED-TTL:P3D
REFRESH-INTERVAL:P3D
CALSCALE:GREGORIAN
BEGIN:VEVENT
DTSTART;VALUE=DATE:20211030
DTEND;VALUE=DATE:20211031
TRANSP:TRANSPARENT
X-MICROSOFT-CDO-ALLDAYEVENT:TRUE
SUMMARY:One Day Prayer Revivial
DESCRIPTION:This is a One prayer revival as we will equip the saints in prayer\, we will have a prayer canopy set up outside for those to drive up or walk up for prayer.  We will have lots of information to equip the saints in prayer\, we will serve Starbucks coffee and everyone who registers will receive a COURT OF HEAVEN BOOK.\, Register on our website\, www.virtuouswomanministries.org
X-ALT-DESC;FMTTYPE=text/html:This is a One prayer revival as we will equip the saints in prayer\, we will have a prayer canopy set up outside for those to drive up or walk up for prayer.&nbsp\; We will have lots of information to equip the saints in prayer\, we will serve Starbucks coffee and everyone who registers will receive a COURT OF HEAVEN BOOK.\, Register on our website\, www.virtuouswomanministries.org
LOCATION:HOLY TEMPLE CHURCH 1110 NONAVILLE\, RD\, MT\, JULIET TENN 37122
UID:e.2544.10343
SEQUENCE:3
DTSTAMP:20260424T161511Z
URL:https://business.mjchamber.org/events/details/one-day-prayer-revivial-10343
END:VEVENT

END:VCALENDAR
