BEGIN:VCALENDAR
VERSION:2.0
PRODID:-//ChamberMaster//Event Calendar 2.0//EN
METHOD:PUBLISH
X-PUBLISHED-TTL:P3D
REFRESH-INTERVAL:P3D
CALSCALE:GREGORIAN
BEGIN:VEVENT
DTSTART:20210831T140000Z
DTEND:20210831T170000Z
X-MICROSOFT-CDO-ALLDAYEVENT:FALSE
SUMMARY:Online-SBA Contracting:Where are the Contracts?
DESCRIPTION:Topic: Government Contracting\n\nCome Learn About: *How to get Certified for Set Aside Contracts *Learn How to Identify Your Industry Type *The Fundamentals of Federal Contracting *How to Set Up Your SAM Profile\n\nSpeaker(s): Jacqueline Merritt\n\nCo-Sponsor(s): SBA\n\n\n\nRegister Here
X-ALT-DESC;FMTTYPE=text/html:<div style="color: rgb(0\, 0\, 0)\; font-family: Arial\, Helvetica\, sans-serif\; font-size: 16px\;">Topic: Government Contracting</div>\n\n<p class="cdworkshoptextinfo" style="white-space: pre-wrap\; color: rgb(0\, 0\, 0)\; font-family: Arial\, Helvetica\, sans-serif\; font-size: 16px\;">Come Learn About: *How to get Certified for Set Aside Contracts *Learn How to Identify Your Industry Type *The Fundamentals of Federal Contracting *How to Set Up Your SAM Profile</p>\n\n<p class="cdworkshoptextinfo" style="white-space: pre-wrap\; color: rgb(0\, 0\, 0)\; font-family: Arial\, Helvetica\, sans-serif\; font-size: 16px\;">Speaker(s): Jacqueline Merritt</p>\n\n<p class="cdworkshoptextinfo" style="white-space: pre-wrap\; color: rgb(0\, 0\, 0)\; font-family: Arial\, Helvetica\, sans-serif\; font-size: 16px\;">Co-Sponsor(s): SBA<br />\n<br />\n<a href="https://clients.tsbdc.org/reg.aspx?mode=event&amp\;event=53410008" target="_blank"><strong>Register Here</strong></a></p>\n
LOCATION:
UID:e.2544.10168
SEQUENCE:3
DTSTAMP:20260424T181851Z
URL:https://business.mjchamber.org/events/details/online-sba-contracting-where-are-the-contracts-10168
END:VEVENT

END:VCALENDAR
