BEGIN:VCALENDAR
VERSION:2.0
PRODID:-//ChamberMaster//Event Calendar 2.0//EN
METHOD:PUBLISH
X-PUBLISHED-TTL:P3D
REFRESH-INTERVAL:P3D
CALSCALE:GREGORIAN
BEGIN:VEVENT
DTSTART:20111209T180000Z
DTEND:20111209T180000Z
X-MICROSOFT-CDO-ALLDAYEVENT:FALSE
SUMMARY:Open House Fitness Festival
DESCRIPTION:Open House and Fitness Festival  a two day affair.  Some of the features include: Superfood smoothie taste testing\, specials on gym memberships\, specials on personal training\, sports specific personal training for kids\, kids speed camp sign-ups\, free chair massages and more.
X-ALT-DESC;FMTTYPE=text/html:Open House and Fitness Festival  a two day affair.  Some of the features include: Superfood smoothie taste testing\, specials on gym memberships\, specials on personal training\, sports specific personal training for kids\, kids speed camp sign-ups\, free chair massages and more.
LOCATION:9695 Lebanon Rd Ste 120 & 400\, Mt Juliet\, Tn 37122 9695 Lebanon Rd Ste 120 & 400 From Mt Juliet Rd - head East as if you were heading to Lebanon\, once you pass Bender's Ferry Rd\, look to your right for Goddard Business Park. From Lebanon\, take Main Street to Mt Juliet\, once you pass West Elementary begin looking to your left for Goddard Business Park
UID:e.2544.146
SEQUENCE:3
DTSTAMP:20260420T045106Z
URL:https://business.mjchamber.org/events/details/open-house-fitness-festival-12-09-2011-146
END:VEVENT

END:VCALENDAR
