BEGIN:VCALENDAR
VERSION:2.0
PRODID:-//ChamberMaster//Event Calendar 2.0//EN
METHOD:PUBLISH
X-PUBLISHED-TTL:P3D
REFRESH-INTERVAL:P3D
CALSCALE:GREGORIAN
BEGIN:VEVENT
DTSTART:20120331T150000Z
DTEND:20120331T200000Z
X-MICROSOFT-CDO-ALLDAYEVENT:FALSE
SUMMARY:Open House-How To Properly Clean and Care for your Floors
DESCRIPTION:More than likely\, you learned how to spring clean by watching our mom...and likely the same goes for your cleaning your floors - cold water\, a rag and lots of elbow grease! But this technique will not always work\, especially on tough stains\, and nor is it the most effective way of preserving the life of your floors.\nFlooring is arguably the most used surface in your home and it isn't cheap to replace! That is why we've partnered up with Pro-Care to bring our Nashville neighbors the Spring for Clean Open House. You'll not want to miss our experts as they show you how to properly spot clean your carpets and hardwoods\, answer your questions about floor cleaning and maintenance and serve you FREE lunch! \nWhile you're there be sure to register for your chance to win a *FREE HOME CARPET CLEANING ($516 value)!
X-ALT-DESC;FMTTYPE=text/html:More than likely\, you learned how to spring clean by watching our mom...and likely the same goes for your cleaning your floors - cold water\, a rag and lots of elbow grease! But this technique will not always work\, especially on tough stains\, and nor is it the most effective way of preserving the life of your floors.\nFlooring is arguably the most used surface in your home and it isn't cheap to replace! That is why we've partnered up with Pro-Care to bring our Nashville neighbors the Spring for Clean Open House. You'll not want to miss our experts as they show you how to properly spot clean your carpets and hardwoods\, answer your questions about floor cleaning and maintenance and serve you FREE lunch! \nWhile you're there be sure to register for your chance to win a *FREE HOME CARPET CLEANING ($516 value)!\n
LOCATION:2517 Lebanon Pike\, Nashville\, TN 37214 2517 Lebanon Pike Nashville\, TN 37214 www.BuddyAllenCarpetOne.com Located between the Krystals and Fat Mo's in the two story gray building in the heart of Donelson.
UID:e.2544.252
SEQUENCE:3
DTSTAMP:20260419T232021Z
URL:https://business.mjchamber.org/events/details/open-house-how-to-properly-clean-and-care-for-your-floors-03-31-2012-252
END:VEVENT

END:VCALENDAR
