BEGIN:VCALENDAR
VERSION:2.0
PRODID:-//ChamberMaster//Event Calendar 2.0//EN
METHOD:PUBLISH
X-PUBLISHED-TTL:P3D
REFRESH-INTERVAL:P3D
CALSCALE:GREGORIAN
BEGIN:VEVENT
DTSTART:20120713T180000Z
DTEND:20120713T200000Z
X-MICROSOFT-CDO-ALLDAYEVENT:FALSE
SUMMARY:Open House @ Snodgrass-King Dental Associates
DESCRIPTION:Stop in\, meet our staff\, have some refreshments\, and see our new facility!
X-ALT-DESC;FMTTYPE=text/html:Stop in\, meet our staff\, have some refreshments\, and see our new facility!
LOCATION:5000 Crossing Circle\, Mt. Juliet\, TN 37122
UID:e.2544.296
SEQUENCE:3
DTSTAMP:20260423T123747Z
URL:https://business.mjchamber.org/events/details/open-house-snodgrass-king-dental-associates-07-13-2012-296
END:VEVENT

END:VCALENDAR
