BEGIN:VCALENDAR
VERSION:2.0
PRODID:-//ChamberMaster//Event Calendar 2.0//EN
METHOD:PUBLISH
X-PUBLISHED-TTL:P3D
REFRESH-INTERVAL:P3D
CALSCALE:GREGORIAN
BEGIN:VEVENT
DTSTART:20211019T220000Z
DTEND:20211020T000000Z
X-MICROSOFT-CDO-ALLDAYEVENT:FALSE
SUMMARY:Pace Analytical Onsite Career Fair
DESCRIPTION:Pace Analytical National\, a leading environmental laboratory\, has immediate openings and is hosting an onsite career fair. Bring your resume\, meet with our managers\, apply for positions\, and schedule your interview.
X-ALT-DESC;FMTTYPE=text/html:Pace Analytical National\, a leading environmental laboratory\, has immediate openings and is hosting an onsite career fair. Bring your resume\, meet with our managers\, apply for positions\, and schedule your interview.
LOCATION:11935 Lebanon Rd Mount Juliet\, TN 37122
UID:e.2544.10327
SEQUENCE:3
DTSTAMP:20260424T160156Z
URL:https://business.mjchamber.org/events/details/pace-analytical-onsite-career-fair-10327
END:VEVENT

END:VCALENDAR
