BEGIN:VCALENDAR
VERSION:2.0
PRODID:-//ChamberMaster//Event Calendar 2.0//EN
METHOD:PUBLISH
X-PUBLISHED-TTL:P3D
REFRESH-INTERVAL:P3D
CALSCALE:GREGORIAN
BEGIN:VEVENT
DTSTART:20211113T143000Z
DTEND:20211113T170000Z
X-MICROSOFT-CDO-ALLDAYEVENT:FALSE
SUMMARY:PARTY WITH THE PRINCESSES
DESCRIPTION:Doors open at 8:30. The program starts at 9:00 a.m. In Lebanon High School Cafeteria Benefits LHS FBLA (Future Business Leaders of America) Activities include Face Painting\, Pictures\, Nail painting Wear your favorite Princess Dress and hear about each Caracter's Traits! Preorder online AT Lebanon High
X-ALT-DESC;FMTTYPE=text/html:Doors open at 8:30. The program starts at 9:00 a.m. In Lebanon High School Cafeteria Benefits LHS FBLA (Future Business Leaders of America) Activities include Face Painting\, Pictures\, Nail painting Wear your favorite Princess Dress and hear about each Caracter&#39\;s Traits! Preorder online AT Lebanon High
LOCATION:Lebanon High School in the Cafeteria\, 500 Blue Devil Blvd.Lebanon\, Tn 37087
UID:e.2544.10339
SEQUENCE:3
DTSTAMP:20260424T141947Z
URL:https://business.mjchamber.org/events/details/party-with-the-princesses-10339
END:VEVENT

END:VCALENDAR
