BEGIN:VCALENDAR
VERSION:2.0
PRODID:-//ChamberMaster//Event Calendar 2.0//EN
METHOD:PUBLISH
X-PUBLISHED-TTL:P3D
REFRESH-INTERVAL:P3D
CALSCALE:GREGORIAN
BEGIN:VEVENT
DTSTART:20210717T133000Z
DTEND:20210717T170000Z
X-MICROSOFT-CDO-ALLDAYEVENT:FALSE
SUMMARY:Pathways Retreat
DESCRIPTION:When Covid-19 first began we were all "sent home" not having any idea how long it would last. It was easy to begin to question where God was in all of it. But even before Covid\, life was a blur of rush and lists. We know God is with us\, but sometimes we can still feel very alone. Come be refreshed and reminded that God has been\, is\, and will always be with you! Learn how to become aware of God's presence with us\, right now\, in this very moment.
X-ALT-DESC;FMTTYPE=text/html:When Covid-19 first began we were all &ldquo\;sent home&rdquo\; not having any idea how long it would last. It was easy to begin to question where God was in all of it. But even before Covid\, life was a blur of rush and lists. We know God is with us\, but sometimes we can still feel very alone. Come be refreshed and reminded that God has been\, is\, and will always be with you! Learn how to become aware of God&rsquo\;s presence with us\, right now\, in this very moment.
LOCATION:Providence Church at 2293 S. Rutland Road
UID:e.2544.10096
SEQUENCE:3
DTSTAMP:20260424T164025Z
URL:https://business.mjchamber.org/events/details/pathways-retreat-10096
END:VEVENT

END:VCALENDAR
