BEGIN:VCALENDAR
VERSION:2.0
PRODID:-//ChamberMaster//Event Calendar 2.0//EN
METHOD:PUBLISH
X-PUBLISHED-TTL:P3D
REFRESH-INTERVAL:P3D
CALSCALE:GREGORIAN
BEGIN:VEVENT
DTSTART:20120810T223000Z
DTEND:20120811T013000Z
X-MICROSOFT-CDO-ALLDAYEVENT:FALSE
SUMMARY:Pig-Stravaganza
DESCRIPTION:Pig-Stravaganza is a unique & fun event featuring\, a giant piggy raffle\,games of chance\, a BBQ pork dinner\, Music by "Fast Forward"\, door prizes and even a Pig Calling Contest with celebrity Judges    (Mayor Ed Hagerty\, Judges John Gwin and others to be announced)
X-ALT-DESC;FMTTYPE=text/html:Pig-Stravaganza is a unique & fun event featuring\, a giant piggy raffle\,games of chance\, a BBQ pork dinner\, Music by "Fast Forward"\, door prizes and even a Pig Calling Contest with celebrity Judges    (Mayor Ed Hagerty\, Judges John Gwin and others to be announced)
LOCATION:2034 North Mt. Juliet Road\, Mt. Juliet\, TN 37122 on Mt. Juliet Road\, behind Juliet's Chapel\, next to the Church of Christ\, across from the new Town Center Medical Plaza.
UID:e.2544.316
SEQUENCE:3
DTSTAMP:20260423T103852Z
URL:https://business.mjchamber.org/events/details/pig-stravaganza-08-10-2012-316
END:VEVENT

END:VCALENDAR
