BEGIN:VCALENDAR
VERSION:2.0
PRODID:-//ChamberMaster//Event Calendar 2.0//EN
METHOD:PUBLISH
X-PUBLISHED-TTL:P3D
REFRESH-INTERVAL:P3D
CALSCALE:GREGORIAN
BEGIN:VEVENT
DTSTART:20220201T010000Z
DTEND:20220201T030000Z
X-MICROSOFT-CDO-ALLDAYEVENT:FALSE
SUMMARY:Play the Flute Fundraiser for Jesus Provisions Ministries
DESCRIPTION:This fundraiser will help raise money to allow Jesus Provisions Ministries to help the community thru the food pantry and their street Ministry. Play the Flute is story about Brandon Cobb (Brett Varvel)\, a new Director who takes over a youth group that's filled with spiritual apathy. As he tries to motivate his students to get serious about their relationship with the Lord\, he finds himself in an uphill battle. Although discouraged by their indifference\, Brandon sticks to his calling of boldly sharing the truth of God's Word. What happens next is something Brandon and his students will never forget. This film features an excellent cast including Brett Varvel\, Sean Ormond\, Kennedy Tucker\, Clint Howard\, Fred Grandy (Gopher on Love Boat) and Loretta Swit (from MASH)
X-ALT-DESC;FMTTYPE=text/html:This fundraiser will help raise money to allow Jesus Provisions Ministries to help the community thru the food pantry and their street Ministry. Play the Flute is story about Brandon Cobb (Brett Varvel)\, a new Director who takes over a youth group that&rsquo\;s filled with spiritual apathy. As he tries to motivate his students to get serious about their relationship with the Lord\, he finds himself in an uphill battle. Although discouraged by their indifference\, Brandon sticks to his calling of boldly sharing the truth of God&rsquo\;s Word. What happens next is something Brandon and his students will never forget. This film features an excellent cast including Brett Varvel\, Sean Ormond\, Kennedy Tucker\, Clint Howard\, Fred Grandy (Gopher on Love Boat) and Loretta Swit (from MASH)
LOCATION:Regal Providence
UID:e.2544.10768
SEQUENCE:3
DTSTAMP:20260424T110136Z
URL:https://business.mjchamber.org/events/details/play-the-flute-fundraiser-for-jesus-provisions-ministries-10768
END:VEVENT

END:VCALENDAR
